BEGIN:VCALENDAR
VERSION:2.0
PRODID:-//KCCCU - ECPv6.15.17.1//NONSGML v1.0//EN
CALSCALE:GREGORIAN
METHOD:PUBLISH
X-WR-CALNAME:KCCCU
X-ORIGINAL-URL:https://kcccu.com
X-WR-CALDESC:Events for KCCCU
REFRESH-INTERVAL;VALUE=DURATION:PT1H
X-Robots-Tag:noindex
X-PUBLISHED-TTL:PT1H
BEGIN:VTIMEZONE
TZID:America/Los_Angeles
BEGIN:DAYLIGHT
TZOFFSETFROM:-0800
TZOFFSETTO:-0700
TZNAME:PDT
DTSTART:20250309T100000
END:DAYLIGHT
BEGIN:STANDARD
TZOFFSETFROM:-0700
TZOFFSETTO:-0800
TZNAME:PST
DTSTART:20251102T090000
END:STANDARD
BEGIN:DAYLIGHT
TZOFFSETFROM:-0800
TZOFFSETTO:-0700
TZNAME:PDT
DTSTART:20260308T100000
END:DAYLIGHT
BEGIN:STANDARD
TZOFFSETFROM:-0700
TZOFFSETTO:-0800
TZNAME:PST
DTSTART:20261101T090000
END:STANDARD
BEGIN:DAYLIGHT
TZOFFSETFROM:-0800
TZOFFSETTO:-0700
TZNAME:PDT
DTSTART:20270314T100000
END:DAYLIGHT
BEGIN:STANDARD
TZOFFSETFROM:-0700
TZOFFSETTO:-0800
TZNAME:PST
DTSTART:20271107T090000
END:STANDARD
END:VTIMEZONE
BEGIN:VEVENT
DTSTART;TZID=America/Los_Angeles:20260623T113000
DTEND;TZID=America/Los_Angeles:20260623T193000
DTSTAMP:20260420T020617
CREATED:20260306T215942Z
LAST-MODIFIED:20260417T173421Z
UID:10000034-1782214200-1782243000@kcccu.com
SUMMARY:2026 Golf Tournament
DESCRIPTION:Register for the 2026 Annual Golf Tournament!\n\nLocation: Washington National Golf Club \nDate: Tuesday\, June 23rd 2026 \nTime: Check-in @11:30am\, Shotgun Start @1:30pm. \nJoin chapter members for a day of fun\, friendly competition\, networking and giving back to our communities! The golf tournament is our annual chapter fundraiser which includes a donation to Credit Unions 4 Kids– a Children’s Miracle Network Organization. \n  \nClick here to learn how to sponsor the tournament– or reach out to us at info@kcccu.com. We’re excited to see you all on the green this summer! \nAdd-On Options:\nAvailable at registration day of the event: \n\nSasquatch Ticket: at Sasquatch Hole\, redeem your ticket to turn a Par 5 into a Par 3 hole at just 150 yards out!\nMulligan: use this ticket for a re-do shot!\nMega Putt: redeem to participate in the putting contest before we tee off. If you’re the first ball in (or closest to the hole)\, you’ll win $100!\nRaffle Tickets: each ticket is an entry to the great assortment of raffle prizes! Raffle will take place during dinner (must be present to win).\n\nAvailable for pre-purchase and at registration: \n\nRaffle Tickets (group of 5): get a discount when you add in bulk! 5 raffle tickets for the price of 4.\nJumbo Package: this is the best bang for your buck! This package includes:\n\n1 entry to the Mega Putt Contest\n1 Sasquatch Ticket\n5 Mulligans\n10 Raffle Tickets\n\n\nJumbo Package Foursome: this is perfect option for a foursome! This package includes a jumbo package per player.\n\n4 entries to the Mega Putt Contest\n4 Sasquatch Tickets\n20 Mulligans\n40 Raffle Tickets\n\n\n\nPlatinum Sponsors: \n  \nGold Sponsors:\n  \nSilver Sponsors:\n 
URL:https://kcccu.com/event/2026-golf-tournament/
LOCATION:Washington National Golf Club\, 14330 Southeast Husky Way\, Auburn\, WA\, 98092\, United States
END:VEVENT
END:VCALENDAR